BEGIN:VCALENDAR
VERSION:2.0
PRODID:-//Calendar App//EN
CALSCALE:GREGORIAN
METHOD:PUBLISH
X-WR-CALNAME:Calendar App Events
BEGIN:VEVENT
UID:a213b7e4-b2ef-4806-99fa-ae4923610067
DTSTAMP:20260423T040418Z
DTSTART:20260319T170000Z
DTEND:20260319T180000Z
SUMMARY:test
END:VEVENT
BEGIN:VEVENT
UID:c630f8f0-d95e-46c9-8d6a-f1da318e87b5
DTSTAMP:20260423T040418Z
DTSTART:20260423T110000Z
DTEND:20260423T150000Z
SUMMARY:Coffee with Andrew
DESCRIPTION:Coffee
LOCATION:Lunch
END:VEVENT
END:VCALENDAR
